BEGIN:VCALENDAR
TZID:America/Denver
BEGIN:VEVENT
CLASS:PUBLIC
CREATED:20260421T042000
DESCRIPTION:TBA
DTEND:20240804T210000Z
DTSTAMP:20260421T042000
DTSTART:20240804T090000
LAST-MODIFIED:20091109T101015
LOCATION:TBA, , , CO, 
SUMMARY;LANGUAGE=en-us:Mile Hi Tournament Play
BEGIN:VALARM
TRIGGER:-PT1440M
ACTION:DISPLAY
DESCRIPTION:Reminder
END:VALARM
END:VEVENT
END:VCALENDAR
