BEGIN:VCALENDAR
TZID:America/Denver
BEGIN:VEVENT
CLASS:PUBLIC
CREATED:20260419T070741
DESCRIPTION:Meadow Hills GC\n3609 S. Dawson Street, Aurora, CO 80014\n303-326-8450\n\nTee Time: 12:00 noon
DTEND:20240630T210000Z
DTSTAMP:20260419T070741
DTSTART:20240630T120000
LAST-MODIFIED:20091109T101015
LOCATION:Meadow Hills GC, 3609 S. Dawson Street, Aurora, CO, 80014
SUMMARY;LANGUAGE=en-us:Mile Hi Tournament Play - Meadow Hills GC
BEGIN:VALARM
TRIGGER:-PT1440M
ACTION:DISPLAY
DESCRIPTION:Reminder
END:VALARM
END:VEVENT
END:VCALENDAR
