BEGIN:VCALENDAR
TZID:America/Denver
BEGIN:VEVENT
CLASS:PUBLIC
CREATED:20260419T070513
DESCRIPTION:Coyote Creek GC\n222 Clubhouse Dr, Fort Lupton, CO 80621\n(303) 857-6152\n\nTee Time:  9:00 a.m.\n\n
DTEND:20240615T180000Z
DTSTAMP:20260419T070513
DTSTART:20240615T090000
LAST-MODIFIED:20091109T101015
LOCATION:Coyote Creek GC, 222 Clubhouse Dr, Fort Lupton, CO, 80621
SUMMARY;LANGUAGE=en-us:Mile Hi Tournament Play
BEGIN:VALARM
TRIGGER:-PT1440M
ACTION:DISPLAY
DESCRIPTION:Reminder
END:VALARM
END:VEVENT
END:VCALENDAR
